BEGIN:VCALENDAR
VERSION:2.0
PRODID:-//Juristenverband - ECPv6.7.0//NONSGML v1.0//EN
CALSCALE:GREGORIAN
METHOD:PUBLISH
X-WR-CALNAME:Juristenverband
X-ORIGINAL-URL:https://juristenverband.at
X-WR-CALDESC:Events for Juristenverband
REFRESH-INTERVAL;VALUE=DURATION:PT1H
X-Robots-Tag:noindex
X-PUBLISHED-TTL:PT1H
BEGIN:VTIMEZONE
TZID:Europe/Berlin
BEGIN:DAYLIGHT
TZOFFSETFROM:+0100
TZOFFSETTO:+0200
TZNAME:CEST
DTSTART:20200329T010000
END:DAYLIGHT
BEGIN:STANDARD
TZOFFSETFROM:+0200
TZOFFSETTO:+0100
TZNAME:CET
DTSTART:20201025T010000
END:STANDARD
END:VTIMEZONE
BEGIN:VEVENT
DTSTART;TZID=Europe/Berlin:20200429T100000
DTEND;TZID=Europe/Berlin:20200429T113000
DTSTAMP:20260422T015943
CREATED:20200514T124331Z
LAST-MODIFIED:20200514T124331Z
UID:10586-1588154400-1588159800@juristenverband.at
SUMMARY:WEBINAR:  DAC6 – MELDEPFLICHT  FÜR GRENZÜBERSCHREITENDE STEUERGESTALTUNGEN
DESCRIPTION:Vortragende: Sonja MILLGRAMMER und Michael OBERNBERGER (beide ARTUS) \nInhalt: Alles rund um das EU-Meldepflichtgesetz\, das VPDG light (Dokumentation der Verrechnungspreise auch bei KMU mit Beispielen aus der Praxis)\, sowie ein Compliance Package inkl. WiEReg. \n  \nWir freuen uns\, gemeinsam mit Ihnen die technischen Möglichkeiten zu nützen\, um auch in diesen herausfordernden Zeiten fachlich topinformiert zu bleiben.  Gerne können Sie uns bereits vorab Ihre Fragen an www.juristenverband.at senden\, damit diese bei den Webinaren berücksichtigt werden können. Nutzen Sie auch gerne die Chatfunktion direkt im Webinar. \n  \nDie Teilnahme ist für MITGLIEDER des Juristenverbandes GRATIS. Gäste zahlen bitte einen Unkostenbeitrag von EUR 94\,80 (darin enthalten 20% USt) PRO Webinar (IBAN im Briefkopf). Anmeldung erforderlich unter office@juristenverband.at. Nach der Anmeldung erhalten Mitglieder den Link zum Webinar. Gäste erhalten diesen nach Einlangen des Unkostenbeitrages oder Übermittlung der Einzahlungsbestätigung. \n   \nMit freundlicher Unterstützung von ARTUS
URL:https://juristenverband.at/veranstaltung/webinar-dac6-meldepflicht-fuer-grenzueberschreitende-steuergestaltungen/
ATTACH;FMTTYPE=image/jpeg:https://juristenverband.at/wp-content/uploads/2019/10/AdobeStock_203901308-e1572455712371.jpeg
END:VEVENT
BEGIN:VEVENT
DTSTART;TZID=Europe/Berlin:20200422T150000
DTEND;TZID=Europe/Berlin:20200422T163000
DTSTAMP:20260422T015943
CREATED:20200514T123830Z
LAST-MODIFIED:20200514T123830Z
UID:10584-1587567600-1587573000@juristenverband.at
SUMMARY:Webinar: AKTUELLE FÖRDERUNGEN iZm COVID-19
DESCRIPTION:  \nVortragende: Tomislav STIPIC\, Gerhard KARGL\, Wolfgang DIBIASI (alle ARTUS) \nInhalt: Erfahren Sie direkt von den Experten Aktuelles zu Förderungsmaßnahmen\, \nGarantien\, Härtefonds\, Zuschüssen iZm COVID-19 und welche steuerlichen Aspekte \ndabei zu berücksichtigen sind. \n  \nWir freuen uns\, gemeinsam mit Ihnen die technischen Möglichkeiten zu nützen\, um auch in diesen herausfordernden Zeiten fachlich topinformiert zu bleiben.  Gerne können Sie uns bereits vorab Ihre Fragen an www.juristenverband.at senden\, damit diese bei den Webinaren berücksichtigt werden können. Nutzen Sie auch gerne die Chatfunktion direkt im Webinar. \n  \nDie Teilnahme ist für MITGLIEDER des Juristenverbandes GRATIS. Gäste zahlen bitte einen Unkostenbeitrag von EUR 94\,80 (darin enthalten 20% USt) PRO Webinar (IBAN im Briefkopf). Anmeldung erforderlich unter office@juristenverband.at. Nach der Anmeldung erhalten Mitglieder den Link zum Webinar. Gäste erhalten diesen nach Einlangen des Unkostenbeitrages oder Übermittlung der Einzahlungsbestätigung. \n  \n Mit freundlicher Unterstützung von ARTUS \n 
URL:https://juristenverband.at/veranstaltung/webinar-aktuelle-foerderungen-izm-covid-19/
ATTACH;FMTTYPE=image/jpeg:https://juristenverband.at/wp-content/uploads/2020/02/Event-Bild-7.jpg
ORGANIZER;CN="Juristenverband":MAILTO:office@juristenverband.at
END:VEVENT
END:VCALENDAR