BEGIN:VCALENDAR
VERSION:2.0
PRODID:-//Juristenverband - ECPv6.7.0//NONSGML v1.0//EN
CALSCALE:GREGORIAN
METHOD:PUBLISH
X-WR-CALNAME:Juristenverband
X-ORIGINAL-URL:https://juristenverband.at
X-WR-CALDESC:Events for Juristenverband
REFRESH-INTERVAL;VALUE=DURATION:PT1H
X-Robots-Tag:noindex
X-PUBLISHED-TTL:PT1H
BEGIN:VTIMEZONE
TZID:Europe/Berlin
BEGIN:DAYLIGHT
TZOFFSETFROM:+0100
TZOFFSETTO:+0200
TZNAME:CEST
DTSTART:20260329T010000
END:DAYLIGHT
BEGIN:STANDARD
TZOFFSETFROM:+0200
TZOFFSETTO:+0100
TZNAME:CET
DTSTART:20261025T010000
END:STANDARD
END:VTIMEZONE
BEGIN:VEVENT
DTSTART;TZID=Europe/Berlin:20260409T173000
DTEND;TZID=Europe/Berlin:20260409T193000
DTSTAMP:20260422T192039
CREATED:20260128T093658Z
LAST-MODIFIED:20260308T194632Z
UID:20734-1775755800-1775763000@juristenverband.at
SUMMARY:Law on Air: Legal Podcasting in Praxis & Lehre
DESCRIPTION:In Kooperation mit dem Institut für Innovation und Digitalisierung im Recht der Universität Wien \nDie Podiumsdiskussion widmet sich der Frage\, wie juristische Inhalte heute effektiv\, verantwortungsvoll und professionell im digitalen Raum vermittelt werden können. Angesichts der wachsenden Bedeutung von Podcasts zeigt sich zunehmend\, dass juristische Kommunikation längst nicht mehr ausschließlich über klassische Medien erfolgt. \nIm Mittelpunkt steht die Frage\, wie juristische Expertise im Podcast-Format fachlich fundiert\, rechtlich korrekt und zugleich verständlich aufbereitet werden kann. Podcasting wird dabei nicht als bloßes Medienexperiment verstanden\, sondern als Ausdruck eines sich wandelnden juristischen Berufsbildes sowie als wirksames Instrument moderner juristischer Wissensvermittlung. \nWir freuen uns auf ein hochkarätig besetztes Panel: \n\n\nMag. Dora Bertrandt (Paragraphinnen) \n\n\nUniv.-Prof. Dr. Nikolaus Forgó (Universität Wien) \n\n\nDr.in Theresa Kamp\, LL.M. (Law & Beyond) \n\n\nPD Dr. Bernd Simon (Geschäftsführer und Gründer von Knowledge Markets) \n\n\nDurch den Abend führt Dr. Žiga Škorjanc (Institut für Innovation und Digitalisierung im Recht).  \nDie Teilnahme ist sowohl für Mitglieder des Juristenverbandes als auch für Gäste kostenlos\, eine vorherige Anmeldung ist jedoch unbedingt erforderlich. \n\nMit freundlicher Unterstützung von: \n\n\n\n\n\nIm Rahmen dieser Veranstaltung können durch die oder im Auftrag des Juristenverbandes Fotografien und/oder Filme erstellt werden. Mit der Anmeldung zur Veranstaltung nehme ich zur Kenntnis\, dass Fotografien und Videomaterialien\, auf denen ich abgebildet bin\, zur Presse-Berichterstattung verwendet und in verschiedensten (Sozialen) Medien\, Publikationen und auf Webseiten des Juristenverbandes veröffentlicht werden. Näheres entnehmen Sie bitte unserer Datenschutzerklärung unter: https://juristenverband.at/impressum-datenschutz/ \nBildquelle\n\n 
URL:https://juristenverband.at/veranstaltung/law-on-air-legal-podcasting-in-praxis-lehre/
LOCATION:Dachgeschoss Juridicum\, rechtswissenschaftliche Fakultät der Universität Wien\, Schottenbastei 10-16\, 1010 Wien
ATTACH;FMTTYPE=image/jpeg:https://juristenverband.at/wp-content/uploads/2025/02/law-judgement-justice-equality-concept-scaled.jpg
END:VEVENT
END:VCALENDAR